BEGIN:VCALENDAR
PRODID:/modules.php?name=Schedule&act=getical&eid=1159
VERSION:2.0
CALSCALE:GREGORIAN
METHOD:PUBLISH
X-WR-CALNAME:Lebendiges-Neuwied.de-Witzig, witziger, weiblich: Josepha Walter und Alice Köfer
X-WR-TIMEZONE:Europe/Berlin
X-WR-CALDESC:Original by https://www.lebendiges-neuwied.de/
 Created by mxSchedule 
 Tecmu 2010-2026
BEGIN:VTIMEZONE
TZID:Europe/Berlin
X-LIC-LOCATION:Europe/Berlin
BEGIN:STANDARD
TZOFFSETFROM:+0100
TZOFFSETTO:+0200
TZNAME:CEST
DTSTART:19701025T030000
RRULE:FREQ=YEARLY;BYMONTH=10;BYDAY=-1SU
END:STANDARD
BEGIN:DAYLIGHT
TZOFFSETFROM:+0100
TZOFFSETTO:+0200
TZNAME:CEST
DTSTART:19700329T020000
RRULE:FREQ=YEARLY;BYMONTH=4;BYDAY=1SU
END:DAYLIGHT
END:VTIMEZONE
BEGIN:VEVENT
ORGANIZER;CN=Kleinkunstbühne Neuwied e.V.-info@kleinkunstbuehne-neuwied.de
DTSTART:20260516T190530
DTEND:20260516T220530
UID:0485ec4dcf4c40f0bf23dddd034a5de3
CREATED:20260422T100454
SUMMARY:Witzig, witziger, weiblich: Josepha Walter und Alice Köfer
DESCRIPTION:Josepha Walter steht, sitzt, beobachtet, denkt und lebt am liebsten vom Rand aus, und genau das macht auch ihre Comedy aus: Fast sch&ouml;n hier, fast gelungen der Abend, fast interessant das Gespr&auml;ch, fast nicht unangenehm das Date &ndash; aber warum eigentlich m&uuml;ssen dann doch alle immer so seltsam sein? Oder ist das nur sie selbst? Dank ihrer pr&auml;zisen Weltbeobachtung und ihrem absoluten Geh&ouml;r f&uuml;r versehentliche Nebenbeiwahrheiten findet sie selten den, sehr viel h&auml;ufiger n&auml;mlich die Fehler, es sind ja dann doch zumeist recht viele. Nach einigen Berufsjahren als Schauspielerin tritt sie 2023 zum ersten Mal als Stand-Up-Comedienne auf. Au&szlig;erdem betreibt sie den w&ouml;chentlichen Podcast &bdquo;ok, random&ldquo; zusammen mit ihrem Comedykollegen Maximilian Lorenz. Alice K&ouml;fer, die Frau der Boygroup &bdquo;Vocal Recall&quot; (die schon G&auml;ste bei der Kleinkunstb&uuml;hne waren), begibt sich erstmalig auf Solopfade. Muss das sein, dass die jetzt auch noch ... ? Ja, es muss! Mal versehentlich philosophisch, mal lustig sinnentleert, wird sich Alice den wirklich wichtigen Fragen des Lebens widmen:

Warum gibt&#39;s in meiner Stra&szlig;e f&uuml;nf Burgerrestaurants? Ab wann ist Fallobst tot? Lohnt sich heute noch eine sch&ouml;ne Unterschrift? Und warum merke ich mir immer nur die falschen Sachen? Nat&uuml;rlich werden jede Menge Songs erklingen in einer wilden Mischung aus destruktiver Liebeslyrik und Stadion-Pop im Garagenformat. Mitgr&ouml;len ausdr&uuml;cklich erw&uuml;nscht! Studiob&uuml;hne im Jungen Schlosstheater Neuwied (Theaterplatz 1, 56564 Neuwied) Vorverkauf: 20 &euro; (inkl. Geb&uuml;hren), Abendkasse: 23 &euro;

Weitere Informationen und Eintrittskarten gibt es unter www.kleinkunstbuehne-neuwied.de oder beim Schlosstheater Neuwied (Telefon: 02631/22288).
 Veröffentlicht von  https://www.lebendiges-neuwied.de/
LAST-MODIFIED:20260422T100454
END:VEVENT
END:VCALENDAR
