BEGIN:VCALENDAR
PRODID:/modules.php?name=Schedule&act=getical&eid=1234
VERSION:2.0
CALSCALE:GREGORIAN
METHOD:PUBLISH
X-WR-CALNAME:Lebendiges-Neuwied.de-Austausch über Neues Wohnen – Filmvorführung im Stadtteiltreff
X-WR-TIMEZONE:Europe/Berlin
X-WR-CALDESC:Original by https://www.lebendiges-neuwied.de/
 Created by mxSchedule 
 Tecmu 2010-2026
BEGIN:VTIMEZONE
TZID:Europe/Berlin
X-LIC-LOCATION:Europe/Berlin
BEGIN:STANDARD
TZOFFSETFROM:+0100
TZOFFSETTO:+0200
TZNAME:CEST
DTSTART:19701025T030000
RRULE:FREQ=YEARLY;BYMONTH=10;BYDAY=-1SU
END:STANDARD
BEGIN:DAYLIGHT
TZOFFSETFROM:+0100
TZOFFSETTO:+0200
TZNAME:CEST
DTSTART:19700329T020000
RRULE:FREQ=YEARLY;BYMONTH=4;BYDAY=1SU
END:DAYLIGHT
END:VTIMEZONE
BEGIN:VEVENT
ORGANIZER;CN=GemeinschaftlichWohnenNR -hilde.lu@web.de
DTSTART:20260427T170400
DTEND:20260427T150445
UID:03d6f7e3685ed36efdae6f9be9ae2eb2
CREATED:20260422T190431
SUMMARY:Austausch über Neues Wohnen – Filmvorführung im Stadtteiltreff
DESCRIPTION:Wie m&ouml;chte ich im Alter wohnen? Was mache ich, wenn meine eigene Wohnung oder Haus nicht barrierefrei ist oder ich mich dort alleine einsam f&uuml;hle?&nbsp;
Sich diesen Fragen zu stellen und &uuml;ber alternative Wohnformen nachzudenken lohnt sich fr&uuml;hzeitig. Daher l&auml;dt das Quartiermanagement s&uuml;d&ouml;stliche Innenstadt Neuwied gemeinsam mit Hildegard Luttenberger, Initiatorin von Gemeinschaftlich Wohnen Neuwied e.V., am Montag, 27. April, zu einer Filmvorf&uuml;hrung und anschlie&szlig;endem Austausch ein.&nbsp;
Gezeigt wird der Dokumentarfilm &bdquo;When I&rsquo;m 67&ldquo;. Er wurde zur Er&ouml;ffung der 7. RLP Demographiewoche im Herbst 2025 in Mainz gezeigt. Ein Wiesbadener Wohnprojekt von vier befreundeten Paaren wurde zehn Jahre lang begleitet.Es wurden die gro&szlig;en und kleinen Schritte von der Vision, Hausbesichtigung, Finanzierung, Umbau bis hin zum Umzug festgehalten. Auch die besondere Herausforderung im Zusammenleben und -wachsen der Wohngemeinschaft werden thematisiert. &bdquo;When I&rsquo;m 67&ldquo; ist ein Langzeitdokumentarfilm &uuml;ber eine ungew&ouml;hnliche Form des gemeinsamen Wohnens im Alter und den besonderen Wert von Gemeinschaft&ldquo;, so die Produktionsfirma knallrot auf ihrer Internetseite.&nbsp;
Die Filmvorf&uuml;hrung beginnt um 17 Uhr im Stadtteiltreff (Rheintalweg 14).
Nach dem Film, der ca. 1,5 Stunden dauert, kann ein Austausch &uuml;ber die Eindr&uuml;cke stattfinden. Weitere Informationen erhalten Sie im Stadtteilb&uuml;ro: Tel. 02631 863 070 oder per E-Mail stadtteilbuero@neuwied.de. Wer nicht vor Ort sein kann, sich aber interessiert: hier findet man den Link um beim LAG GeWo e.V. RLP Angebot per Zoom dabeizusein: &nbsp;https://lag-gewo-rlp.de/
 Veröffentlicht von  https://www.lebendiges-neuwied.de/
LAST-MODIFIED:20260422T190431
END:VEVENT
END:VCALENDAR
