BEGIN:VCALENDAR
PRODID:/modules.php?name=Schedule&act=getical&eid=1235
VERSION:2.0
CALSCALE:GREGORIAN
METHOD:PUBLISH
X-WR-CALNAME:Lebendiges-Neuwied.de-Endlich Frühling - Lesung am 05.05.2026 im Quartiersbüro Raiffeisenring
X-WR-TIMEZONE:Europe/Berlin
X-WR-CALDESC:Original by https://www.lebendiges-neuwied.de/
 Created by mxSchedule 
 Tecmu 2010-2026
BEGIN:VTIMEZONE
TZID:Europe/Berlin
X-LIC-LOCATION:Europe/Berlin
BEGIN:STANDARD
TZOFFSETFROM:+0100
TZOFFSETTO:+0200
TZNAME:CEST
DTSTART:19701025T030000
RRULE:FREQ=YEARLY;BYMONTH=10;BYDAY=-1SU
END:STANDARD
BEGIN:DAYLIGHT
TZOFFSETFROM:+0100
TZOFFSETTO:+0200
TZNAME:CEST
DTSTART:19700329T020000
RRULE:FREQ=YEARLY;BYMONTH=4;BYDAY=1SU
END:DAYLIGHT
END:VTIMEZONE
BEGIN:VEVENT
ORGANIZER;CN=Quartiersbuero_Raiffeisen-gabriele.may@diakoniehilft.net
DTSTART:20260505T150500
DTEND:20260505T120500
UID:dc383ad6405f4e51576a6f16d176b74d
CREATED:20260426T020456
SUMMARY:Endlich Frühling - Lesung am 05.05.2026 im Quartiersbüro Raiffeisenring
DESCRIPTION:Am 5. Mai um 15.00 Uhr zieht der Fr&uuml;hling im Quartiersb&uuml;ro Raiffeisenring ein. Mit bunten Texten k&ouml;nnen Sie eintauchen in fr&uuml;hlingshafte Bilder und Geschichten. Lassen Sie sich gemeinsam mit anderen verzaubern von Wortspielen zum Wiedererwachen der Natur und der Menschen aus dem Winterschlaf.

Bereit f&uuml;r Fr&uuml;hlingsgef&uuml;hle?

Es werden Brigitte Neumann und Hans-J&uuml;rgen Schmitt lesen. Die Veranstaltung dauert ca. 2 Stunden.

R&uuml;ckfragen und Anmeldungen sind unter 02631-392266 oder gabriele.may@diakoniehilft.net m&ouml;glich.
 Veröffentlicht von  https://www.lebendiges-neuwied.de/
LAST-MODIFIED:20260426T020456
END:VEVENT
END:VCALENDAR
