BEGIN:VCALENDAR
PRODID:/modules.php?name=Schedule&act=getical&eid=571
VERSION:2.0
CALSCALE:GREGORIAN
METHOD:PUBLISH
X-WR-CALNAME:Lebendiges-Neuwied.de-Buch und Billig im Backhaus
X-WR-TIMEZONE:Europe/Berlin
X-WR-CALDESC:Original by https://www.lebendiges-neuwied.de/
 Created by mxSchedule 
 Tecmu 2010-2026
BEGIN:VTIMEZONE
TZID:Europe/Berlin
X-LIC-LOCATION:Europe/Berlin
BEGIN:STANDARD
TZOFFSETFROM:+0100
TZOFFSETTO:+0200
TZNAME:CEST
DTSTART:19701025T030000
RRULE:FREQ=YEARLY;BYMONTH=10;BYDAY=-1SU
END:STANDARD
BEGIN:DAYLIGHT
TZOFFSETFROM:+0100
TZOFFSETTO:+0200
TZNAME:CEST
DTSTART:19700329T020000
RRULE:FREQ=YEARLY;BYMONTH=4;BYDAY=1SU
END:DAYLIGHT
END:VTIMEZONE
BEGIN:VEVENT
ORGANIZER;CN=Niederbieberer_Buerger-datro@online.de
DTSTART:20260505T150500
DTEND:20260505T170500
UID:6690bed541863950daa82555c7717be4
CREATED:20260426T020459
SUMMARY:Buch und Billig im Backhaus
DESCRIPTION:Am Dienstag, 5. Mai 2026
von 15.00 Uhr bis 17.00 Uhr!

St&ouml;bern Sie im Backhaus in der Backhausgasse in einer reichhaltigen Auswahl an gut erhaltenen B&uuml;chern f&uuml;r wenig Geld.

&nbsp;
Wir freuen uns auf Ihren Besuch!
 Veröffentlicht von  https://www.lebendiges-neuwied.de/
LAST-MODIFIED:20260426T020459
END:VEVENT
END:VCALENDAR
